BEGIN:VCALENDAR
VERSION:2.0
PRODID:-//The World Needs A Father - ECPv6.15.20//NONSGML v1.0//EN
CALSCALE:GREGORIAN
METHOD:PUBLISH
X-ORIGINAL-URL:https://twnaf.com
X-WR-CALDESC:Events for The World Needs A Father
REFRESH-INTERVAL;VALUE=DURATION:PT1H
X-Robots-Tag:noindex
X-PUBLISHED-TTL:PT1H
BEGIN:VTIMEZONE
TZID:Africa/Johannesburg
BEGIN:STANDARD
TZOFFSETFROM:+0200
TZOFFSETTO:+0200
TZNAME:SAST
DTSTART:20230101T000000
END:STANDARD
END:VTIMEZONE
BEGIN:VEVENT
DTSTART;TZID=Africa/Johannesburg:20240829T190000
DTEND;TZID=Africa/Johannesburg:20240829T210000
DTSTAMP:20260422T202158
CREATED:20240703T090323Z
LAST-MODIFIED:20240703T091258Z
UID:10000861-1724958000-1724965200@twnaf.com
SUMMARY:TWNAF Training || Narre Warren South\, Australia || August 2024
DESCRIPTION:Event details\nThis is a TWNAF Training hosted by Delain Gunewardena at Waverley Christian College.\nThe event will be held in English. \nContact details\nContact Delain Gunewardena\, twnaf.aus@gmail.com\, +61480270174 for enquiries or to RSVP. \nCost details\nThis event costs AU$70.\nCost includes Training Material\, Refreshments\, Lunch. \nRSVP By\n11 August 2024.
URL:https://twnaf.com/single-event/twnaf-training-narre-warren-south-australia-august-2024/2024-08-29/
LOCATION:Waverley Christian College\, 20 College Drive\, Narre Warren South\, Victoria\, X72X+7W\, Australia
CATEGORIES:—TWNAF—,Australia
ORGANIZER;CN="Delain Gunewardena":MAILTO:twnaf.aus@gmail.com
END:VEVENT
BEGIN:VEVENT
DTSTART;TZID=Africa/Johannesburg:20240830T190000
DTEND;TZID=Africa/Johannesburg:20240830T210000
DTSTAMP:20260422T202158
CREATED:20240703T090323Z
LAST-MODIFIED:20240703T091258Z
UID:10000862-1725044400-1725051600@twnaf.com
SUMMARY:TWNAF Training || Narre Warren South\, Australia || August 2024
DESCRIPTION:Event details\nThis is a TWNAF Training hosted by Delain Gunewardena at Waverley Christian College.\nThe event will be held in English. \nContact details\nContact Delain Gunewardena\, twnaf.aus@gmail.com\, +61480270174 for enquiries or to RSVP. \nCost details\nThis event costs AU$70.\nCost includes Training Material\, Refreshments\, Lunch. \nRSVP By\n11 August 2024.
URL:https://twnaf.com/single-event/twnaf-training-narre-warren-south-australia-august-2024/2024-08-30/
LOCATION:Waverley Christian College\, 20 College Drive\, Narre Warren South\, Victoria\, X72X+7W\, Australia
CATEGORIES:—TWNAF—,Australia
ORGANIZER;CN="Delain Gunewardena":MAILTO:twnaf.aus@gmail.com
END:VEVENT
BEGIN:VEVENT
DTSTART;TZID=Africa/Johannesburg:20240831T090000
DTEND;TZID=Africa/Johannesburg:20240831T170000
DTSTAMP:20260422T202158
CREATED:20240703T090323Z
LAST-MODIFIED:20240703T091258Z
UID:10000863-1725094800-1725123600@twnaf.com
SUMMARY:TWNAF Training || Narre Warren South\, Australia || August 2024
DESCRIPTION:Event details\nThis is a TWNAF Training hosted by Delain Gunewardena at Waverley Christian College.\nThe event will be held in English. \nContact details\nContact Delain Gunewardena\, twnaf.aus@gmail.com\, +61480270174 for enquiries or to RSVP. \nCost details\nThis event costs AU$70.\nCost includes Training Material\, Refreshments\, Lunch. \nRSVP By\n11 August 2024.
URL:https://twnaf.com/single-event/twnaf-training-narre-warren-south-australia-august-2024/2024-08-31/
LOCATION:Waverley Christian College\, 20 College Drive\, Narre Warren South\, Victoria\, X72X+7W\, Australia
CATEGORIES:—TWNAF—,Australia
ORGANIZER;CN="Delain Gunewardena":MAILTO:twnaf.aus@gmail.com
END:VEVENT
END:VCALENDAR