BEGIN:VCALENDAR
VERSION:2.0
PRODID:-//The World Needs A Father - ECPv6.15.20//NONSGML v1.0//EN
CALSCALE:GREGORIAN
METHOD:PUBLISH
X-WR-CALNAME:The World Needs A Father
X-ORIGINAL-URL:https://twnaf.com
X-WR-CALDESC:Events for The World Needs A Father
REFRESH-INTERVAL;VALUE=DURATION:PT1H
X-Robots-Tag:noindex
X-PUBLISHED-TTL:PT1H
BEGIN:VTIMEZONE
TZID:Africa/Johannesburg
BEGIN:STANDARD
TZOFFSETFROM:+0200
TZOFFSETTO:+0200
TZNAME:SAST
DTSTART:20230101T000000
END:STANDARD
END:VTIMEZONE
BEGIN:VEVENT
DTSTART;TZID=Africa/Johannesburg:20241211T080000
DTEND;TZID=Africa/Johannesburg:20241211T200000
DTSTAMP:20260422T132306
CREATED:20241121T091858Z
LAST-MODIFIED:20241121T092639Z
UID:10000987-1733904000-1733947200@twnaf.com
SUMMARY:TWNAF Level 1 Training || Guatemala\, Guatemala || December 2024
DESCRIPTION:Event details\nThis is a TWNAF Level 1 Training hosted by Makko Gonzalez at Casa Villas Magen for Sport Leadership School (RSG) Multiply School.\nThe event will be held in Spanish. \nContact details\nContact Makko Gonzales for enquiries or to RSVP.\nmakkogonzalezgt@gmail.com | +50257041303 \nCost details\nPlease contact Makko for more details. \nRSVP By\nNone.
URL:https://twnaf.com/single-event/twnaf-level-1-training-guatemala-guatemala-december-2024/
LOCATION:Casa Villas Magen\, Finca El Naranjo\, 10 Calle 28-00\, Cdad. de Guatemala\, Guatemala\, Guatemala\, Guatemala
CATEGORIES:—TWNAF—,Guatemala
END:VEVENT
END:VCALENDAR