BEGIN:VCALENDAR
VERSION:2.0
PRODID:-//The World Needs A Father - ECPv6.15.20//NONSGML v1.0//EN
CALSCALE:GREGORIAN
METHOD:PUBLISH
X-ORIGINAL-URL:https://twnaf.com
X-WR-CALDESC:Events for The World Needs A Father
REFRESH-INTERVAL;VALUE=DURATION:PT1H
X-Robots-Tag:noindex
X-PUBLISHED-TTL:PT1H
BEGIN:VTIMEZONE
TZID:America/Guatemala
BEGIN:STANDARD
TZOFFSETFROM:-0600
TZOFFSETTO:-0600
TZNAME:CST
DTSTART:20250101T000000
END:STANDARD
END:VTIMEZONE
BEGIN:VEVENT
DTSTART;TZID=America/Guatemala:20260227T100000
DTEND;TZID=America/Guatemala:20260227T110000
DTSTAMP:20260421T152035
CREATED:20260219T091034Z
LAST-MODIFIED:20260219T091034Z
UID:10001720-1772186400-1772190000@twnaf.com
SUMMARY:TWNAF Dads Talk || Guatemala City\, Guatemala || February 2026
DESCRIPTION:Event details\nThis is a Dads Talk Level 1 hosted by Makko Gonzalez at Well-being Government Office.\nThe event will be held in Spanish.\nThis training is Parent’s School in partnership with the Guatemala Well-being Government Office \nContact details\nContact Makko Gonzales for enquiries or to RSVP.\nmgonzalez@missiongo.org | +502 5704-1303
URL:https://twnaf.com/single-event/twnaf-dads-talk-guatemala-city-guatemala-february-2026/
LOCATION:Guatemala City Government Office\, Guatemala City\, 01009\, Guatemala
CATEGORIES:—TWNAF—,Guatemala
ORGANIZER;CN="Makko Gonzales":MAILTO:mgonzalez@missiongo.org
END:VEVENT
END:VCALENDAR