BEGIN:VCALENDAR
VERSION:2.0
PRODID:-//The World Needs A Father - ECPv6.15.20//NONSGML v1.0//EN
CALSCALE:GREGORIAN
METHOD:PUBLISH
X-ORIGINAL-URL:https://twnaf.com
X-WR-CALDESC:Events for The World Needs A Father
REFRESH-INTERVAL;VALUE=DURATION:PT1H
X-Robots-Tag:noindex
X-PUBLISHED-TTL:PT1H
BEGIN:VTIMEZONE
TZID:Africa/Johannesburg
BEGIN:STANDARD
TZOFFSETFROM:+0200
TZOFFSETTO:+0200
TZNAME:SAST
DTSTART:20250101T000000
END:STANDARD
END:VTIMEZONE
BEGIN:VEVENT
DTSTART;TZID=Africa/Johannesburg:20260515T180000
DTEND;TZID=Africa/Johannesburg:20260515T210000
DTSTAMP:20260421T120144
CREATED:20260410T074522Z
LAST-MODIFIED:20260410T074522Z
UID:10001816-1778868000-1778878800@twnaf.com
SUMMARY:TMD Training || Vanderbijlpark\, South Africa || May 2026
DESCRIPTION:Event details\nThis is a The Mother Design Training hosted by Luné Müller at Kompas Gemeente.\nThe event will be held in Afrikaans \nContact details\nContact Luné Müller for enquiries or to RSVP.\njonathan@kg.org.za | +27 79 898 2122\nTo register: https://kompasgemeente.churchcenter.com/registrations/events/3372073 \nCost details\nThis event costs R150/person\nCost includes: Training material\, refreshments & lunch. \nRSVP By\n8 May 2026
URL:https://twnaf.com/single-event/tmd-training-vanderbijlpark-south-africa-may-2026/2026-05-15/
LOCATION:Kompas Gemeente\, 90 Abraham Street\, Vanderbijlpark\, Gauteng\, 1911\, South Africa
CATEGORIES:—TMD—,South Africa
END:VEVENT
BEGIN:VEVENT
DTSTART;TZID=Africa/Johannesburg:20260516T080000
DTEND;TZID=Africa/Johannesburg:20260516T150000
DTSTAMP:20260421T120144
CREATED:20260410T074522Z
LAST-MODIFIED:20260410T074522Z
UID:10001817-1778918400-1778943600@twnaf.com
SUMMARY:TMD Training || Vanderbijlpark\, South Africa || May 2026
DESCRIPTION:Event details\nThis is a The Mother Design Training hosted by Luné Müller at Kompas Gemeente.\nThe event will be held in Afrikaans \nContact details\nContact Luné Müller for enquiries or to RSVP.\njonathan@kg.org.za | +27 79 898 2122\nTo register: https://kompasgemeente.churchcenter.com/registrations/events/3372073 \nCost details\nThis event costs R150/person\nCost includes: Training material\, refreshments & lunch. \nRSVP By\n8 May 2026
URL:https://twnaf.com/single-event/tmd-training-vanderbijlpark-south-africa-may-2026/2026-05-16/
LOCATION:Kompas Gemeente\, 90 Abraham Street\, Vanderbijlpark\, Gauteng\, 1911\, South Africa
CATEGORIES:—TMD—,South Africa
END:VEVENT
END:VCALENDAR