BEGIN:VCALENDAR
VERSION:2.0
PRODID:-//The World Needs A Father - ECPv6.15.20//NONSGML v1.0//EN
CALSCALE:GREGORIAN
METHOD:PUBLISH
X-WR-CALNAME:The World Needs A Father
X-ORIGINAL-URL:https://twnaf.com/fr
X-WR-CALDESC:Évènements pour The World Needs A Father
REFRESH-INTERVAL;VALUE=DURATION:PT1H
X-Robots-Tag:noindex
X-PUBLISHED-TTL:PT1H
BEGIN:VTIMEZONE
TZID:Africa/Johannesburg
BEGIN:STANDARD
TZOFFSETFROM:+0200
TZOFFSETTO:+0200
TZNAME:SAST
DTSTART:20250101T000000
END:STANDARD
END:VTIMEZONE
BEGIN:VTIMEZONE
TZID:Europe/London
BEGIN:DAYLIGHT
TZOFFSETFROM:+0000
TZOFFSETTO:+0100
TZNAME:BST
DTSTART:20250330T010000
END:DAYLIGHT
BEGIN:STANDARD
TZOFFSETFROM:+0100
TZOFFSETTO:+0000
TZNAME:GMT
DTSTART:20251026T010000
END:STANDARD
BEGIN:DAYLIGHT
TZOFFSETFROM:+0000
TZOFFSETTO:+0100
TZNAME:BST
DTSTART:20260329T010000
END:DAYLIGHT
BEGIN:STANDARD
TZOFFSETFROM:+0100
TZOFFSETTO:+0000
TZNAME:GMT
DTSTART:20261025T010000
END:STANDARD
BEGIN:DAYLIGHT
TZOFFSETFROM:+0000
TZOFFSETTO:+0100
TZNAME:BST
DTSTART:20270328T010000
END:DAYLIGHT
BEGIN:STANDARD
TZOFFSETFROM:+0100
TZOFFSETTO:+0000
TZNAME:GMT
DTSTART:20271031T010000
END:STANDARD
END:VTIMEZONE
BEGIN:VTIMEZONE
TZID:America/Guatemala
BEGIN:STANDARD
TZOFFSETFROM:-0600
TZOFFSETTO:-0600
TZNAME:CST
DTSTART:20250101T000000
END:STANDARD
END:VTIMEZONE
BEGIN:VTIMEZONE
TZID:Asia/Manila
BEGIN:STANDARD
TZOFFSETFROM:+0800
TZOFFSETTO:+0800
TZNAME:PST
DTSTART:20250101T000000
END:STANDARD
END:VTIMEZONE
BEGIN:VEVENT
DTSTART;TZID=Africa/Johannesburg:20260301T080000
DTEND;TZID=Africa/Johannesburg:20260301T130000
DTSTAMP:20260419T152651
CREATED:20251030T090245Z
LAST-MODIFIED:20251030T090245Z
UID:10001624-1772352000-1772370000@twnaf.com
SUMMARY:TWNAF collab || Stellenbosch\, South Africa || February 2026
DESCRIPTION:Event details\nThis is a TWNAF training in collaboration with FATHERS MATTER hosted at Prayer Network’s Prayer House.\nThe event will be held in English. \nContact details\nContact Lucas Visser info@dadstalk.capetown for enquiries or to RSVP. \nCost details\nThis event costs R450p/p\nCost includes training material. \nRSVP By\nAs soon as possible.
URL:https://twnaf.com/fr/single-event/twnaf-collab-stellenbosch-south-africa-february-2026/2026-03-01/
LOCATION:Prayer Network – Prayer House\, 5 Morkel Street\, De Jonker Kwik Spar\, Stellenbosch\, Western Cape\, South Africa
CATEGORIES:—TWNAF—,South Africa
ORGANIZER;CN="Lucas Visser":MAILTO:info@dadstalk.capetown / info@thejourney.capetown
END:VEVENT
BEGIN:VEVENT
DTSTART;TZID=Africa/Johannesburg:20260301T170000
DTEND;TZID=Africa/Johannesburg:20260301T190000
DTSTAMP:20260419T152651
CREATED:20260213T083019Z
LAST-MODIFIED:20260213T083019Z
UID:10001708-1772384400-1772391600@twnaf.com
SUMMARY:TWNAF Journey for Dads and Daughters || Kirstenhof\, SA || Jan 26
DESCRIPTION:Event details\nThis is a Journey for Dads & Daughters hosted by Richard Walker at CHS Life Centre.\nThe event will be held in English.\n\nSunday 25th January 2026 to Sunday 5th April 2026\nSunday evenings 17h00 – 19h00\nRite of Passage Camp 10th to 12th April 2026\n \nContact details\nContact Richard Walker for enquiries or to RSVP.\nrichard.walker@altron.com | +27 82 732 9507 \nCost details\nThis event costs R3850 / family\nCost includes training manuals\, camps\, food & refreshments.\nCost does not include transport.
URL:https://twnaf.com/fr/single-event/twnaf-journey-for-dads-and-daughters-kirstenhof-sa-jan-26/2026-03-01/
LOCATION:CHS Life Centre\, 38 Raapkraal Rd\, Kirstenhof\, Cape Town\, Western Cape\, 7945
CATEGORIES:-JOURNEY-,—TWNAF—,South Africa
END:VEVENT
BEGIN:VEVENT
DTSTART;TZID=Africa/Johannesburg:20260302T180000
DTEND;TZID=Africa/Johannesburg:20260302T210000
DTSTAMP:20260419T152651
CREATED:20250425T113024Z
LAST-MODIFIED:20250505T063412Z
UID:10001362-1772474400-1772485200@twnaf.com
SUMMARY:TWNAF Dads Talk || Stellenbosch\, South Africa || May 2025
DESCRIPTION:Event details\nThis is a Dads Talk hosted by Edward Ellis at Stellenbosch (exact venue to be confirmed).\nThe event will be held in English. \nContact details\nContact Edward Ellis for enquiries or to RSVP.\nstellenbosch@thejourney.capetown | +27 72 362 2383 \nCost details\nThis event costs R500 per person.\nCost includes course material & snacks. \nRSVP By\n25 May 2025.
URL:https://twnaf.com/fr/single-event/twnaf-dads-talk-stellenbosch-south-africa-may-2025/2026-03-02/
CATEGORIES:—TWNAF—,South Africa
ORGANIZER;CN="Edward Ellis":MAILTO:stellenbosch@thejourney.capetown
END:VEVENT
BEGIN:VEVENT
DTSTART;TZID=Africa/Johannesburg:20260302T183000
DTEND;TZID=Africa/Johannesburg:20260302T210000
DTSTAMP:20260419T152651
CREATED:20260127T074323Z
LAST-MODIFIED:20260127T074323Z
UID:10001689-1772476200-1772485200@twnaf.com
SUMMARY:TMD Training || Somerset West\, South Africa || February 2026
DESCRIPTION:Event details\nThis is a The Mother Design Training hosted by Michelle Henderson at Sage & Thyme Village Coffee Shop.\nThe event will be held in English.\nBooking link: tmdhelderberg@gmail.com – send an email and a welcome email will be sent back to you with all the details to register (Please check spam folders)\n16 February 2026 (every Monday evening) to 23 March 2026 -18h30 to 21h00\, and one Saturday 14 March 2026 08h00 to 15h00. \nContact details\nContact Tina de Wet +27 72 736 3003 OR Michele Henderson +27 84 405 1436 for enquiries or to RSVP. \nCost details\nThis event costs R400 / person\nCost includes workbook\, venue hire & refreshments. \nRSVP By\n13 February 2026
URL:https://twnaf.com/fr/single-event/tmd-training-somerset-west-south-africa-february-2026/2026-03-02/
LOCATION:Sage and Thyme Restaurant\, Shop 28\, Circle Centre\, Caledon Street\, Somerset West\, Western Cape\, 7130\, South Africa
CATEGORIES:—TMD—,South Africa
ORGANIZER;CN="Michelle Hendeson":MAILTO:michhenderson92@gmail.com
END:VEVENT
BEGIN:VEVENT
DTSTART;TZID=Europe/London:20260304T193000
DTEND;TZID=Europe/London:20260304T213000
DTSTAMP:20260419T152651
CREATED:20251201T105935Z
LAST-MODIFIED:20251201T105935Z
UID:10001665-1772652600-1772659800@twnaf.com
SUMMARY:TWNAF training || Zoom\, UK || January 2026
DESCRIPTION:Event details\nThis is a TWNAF training for men hosted by TWNAF UK on Zoom.\nThe event will be held in English.\nTime Zone: GMT+0 / UTC+0 \nProposed dates (Training dates may be subject to change\, notice will be given if changes are made.)\nWednesdays 19:30 – 21:30\n21\, 28 Jan 2026\n4\, 11\, 18\, 25 Feb 2026\n4\, 11\, 18 Mar 2026 \nContact details\nContact twnafuk@gmail.com for enquiries or to RSVP.\nRegister here: twnafuk2026.eventbrite.co.uk  \nCost details\nThis event is Free of charge
URL:https://twnaf.com/fr/single-event/twnaf-training-zoom-uk-january-2026/2026-03-04/
LOCATION:Zoom: UK host\, London\, United Kingdom
CATEGORIES:—TWNAF—,Online
ORGANIZER;CN="TWNAF UK":MAILTO:twnafuk@gmail.com
END:VEVENT
BEGIN:VEVENT
DTSTART;TZID=Europe/London:20260304T193000
DTEND;TZID=Europe/London:20260304T213000
DTSTAMP:20260419T152651
CREATED:20260116T105422Z
LAST-MODIFIED:20260116T105422Z
UID:10001683-1772652600-1772659800@twnaf.com
SUMMARY:TWNAF Master Mentor || Zoom\, UK || January 2026
DESCRIPTION:Event details\nThis is a Master Mentor Training hosted by TWNAF UK on Zoom.\nThe event will be held in English. \nTraining dates may be subject to change\, notice will be given if changes are made.\nDownload the master mentor workbook under the resources page of the website.\n \nContact details\nContact Alex Shoderu for enquiries or to RSVP.\n+44 777 018 2900 | twnafuk@gmail.com\nRegistration link: https://twnafuk2026.eventbrite.co.uk \nCost details\nThis event costs free of charge.
URL:https://twnaf.com/fr/single-event/twnaf-master-mentor-zoom-uk-january-2026/2026-03-04/
LOCATION:Zoom: UK host\, London\, United Kingdom
CATEGORIES:—TWNAF—,Online
ORGANIZER;CN="TWNAF UK":MAILTO:twnafuk@gmail.com
END:VEVENT
BEGIN:VEVENT
DTSTART;TZID=Africa/Johannesburg:20260308T170000
DTEND;TZID=Africa/Johannesburg:20260308T190000
DTSTAMP:20260419T152651
CREATED:20260213T083019Z
LAST-MODIFIED:20260213T083019Z
UID:10001709-1772989200-1772996400@twnaf.com
SUMMARY:TWNAF Journey for Dads and Daughters || Kirstenhof\, SA || Jan 26
DESCRIPTION:Event details\nThis is a Journey for Dads & Daughters hosted by Richard Walker at CHS Life Centre.\nThe event will be held in English.\n\nSunday 25th January 2026 to Sunday 5th April 2026\nSunday evenings 17h00 – 19h00\nRite of Passage Camp 10th to 12th April 2026\n \nContact details\nContact Richard Walker for enquiries or to RSVP.\nrichard.walker@altron.com | +27 82 732 9507 \nCost details\nThis event costs R3850 / family\nCost includes training manuals\, camps\, food & refreshments.\nCost does not include transport.
URL:https://twnaf.com/fr/single-event/twnaf-journey-for-dads-and-daughters-kirstenhof-sa-jan-26/2026-03-08/
LOCATION:CHS Life Centre\, 38 Raapkraal Rd\, Kirstenhof\, Cape Town\, Western Cape\, 7945
CATEGORIES:-JOURNEY-,—TWNAF—,South Africa
END:VEVENT
BEGIN:VEVENT
DTSTART;TZID=Africa/Johannesburg:20260309T180000
DTEND;TZID=Africa/Johannesburg:20260309T210000
DTSTAMP:20260419T152651
CREATED:20250425T113024Z
LAST-MODIFIED:20250505T063412Z
UID:10001363-1773079200-1773090000@twnaf.com
SUMMARY:TWNAF Dads Talk || Stellenbosch\, South Africa || May 2025
DESCRIPTION:Event details\nThis is a Dads Talk hosted by Edward Ellis at Stellenbosch (exact venue to be confirmed).\nThe event will be held in English. \nContact details\nContact Edward Ellis for enquiries or to RSVP.\nstellenbosch@thejourney.capetown | +27 72 362 2383 \nCost details\nThis event costs R500 per person.\nCost includes course material & snacks. \nRSVP By\n25 May 2025.
URL:https://twnaf.com/fr/single-event/twnaf-dads-talk-stellenbosch-south-africa-may-2025/2026-03-09/
CATEGORIES:—TWNAF—,South Africa
ORGANIZER;CN="Edward Ellis":MAILTO:stellenbosch@thejourney.capetown
END:VEVENT
BEGIN:VEVENT
DTSTART;TZID=Africa/Johannesburg:20260309T183000
DTEND;TZID=Africa/Johannesburg:20260309T210000
DTSTAMP:20260419T152651
CREATED:20260127T074323Z
LAST-MODIFIED:20260127T074323Z
UID:10001690-1773081000-1773090000@twnaf.com
SUMMARY:TMD Training || Somerset West\, South Africa || February 2026
DESCRIPTION:Event details\nThis is a The Mother Design Training hosted by Michelle Henderson at Sage & Thyme Village Coffee Shop.\nThe event will be held in English.\nBooking link: tmdhelderberg@gmail.com – send an email and a welcome email will be sent back to you with all the details to register (Please check spam folders)\n16 February 2026 (every Monday evening) to 23 March 2026 -18h30 to 21h00\, and one Saturday 14 March 2026 08h00 to 15h00. \nContact details\nContact Tina de Wet +27 72 736 3003 OR Michele Henderson +27 84 405 1436 for enquiries or to RSVP. \nCost details\nThis event costs R400 / person\nCost includes workbook\, venue hire & refreshments. \nRSVP By\n13 February 2026
URL:https://twnaf.com/fr/single-event/tmd-training-somerset-west-south-africa-february-2026/2026-03-09/
LOCATION:Sage and Thyme Restaurant\, Shop 28\, Circle Centre\, Caledon Street\, Somerset West\, Western Cape\, 7130\, South Africa
CATEGORIES:—TMD—,South Africa
ORGANIZER;CN="Michelle Hendeson":MAILTO:michhenderson92@gmail.com
END:VEVENT
BEGIN:VEVENT
DTSTART;TZID=Europe/London:20260311T193000
DTEND;TZID=Europe/London:20260311T213000
DTSTAMP:20260419T152651
CREATED:20251201T105935Z
LAST-MODIFIED:20251201T105935Z
UID:10001666-1773257400-1773264600@twnaf.com
SUMMARY:TWNAF training || Zoom\, UK || January 2026
DESCRIPTION:Event details\nThis is a TWNAF training for men hosted by TWNAF UK on Zoom.\nThe event will be held in English.\nTime Zone: GMT+0 / UTC+0 \nProposed dates (Training dates may be subject to change\, notice will be given if changes are made.)\nWednesdays 19:30 – 21:30\n21\, 28 Jan 2026\n4\, 11\, 18\, 25 Feb 2026\n4\, 11\, 18 Mar 2026 \nContact details\nContact twnafuk@gmail.com for enquiries or to RSVP.\nRegister here: twnafuk2026.eventbrite.co.uk  \nCost details\nThis event is Free of charge
URL:https://twnaf.com/fr/single-event/twnaf-training-zoom-uk-january-2026/2026-03-11/
LOCATION:Zoom: UK host\, London\, United Kingdom
CATEGORIES:—TWNAF—,Online
ORGANIZER;CN="TWNAF UK":MAILTO:twnafuk@gmail.com
END:VEVENT
BEGIN:VEVENT
DTSTART;TZID=Europe/London:20260311T193000
DTEND;TZID=Europe/London:20260311T213000
DTSTAMP:20260419T152651
CREATED:20260116T105422Z
LAST-MODIFIED:20260116T105422Z
UID:10001684-1773257400-1773264600@twnaf.com
SUMMARY:TWNAF Master Mentor || Zoom\, UK || January 2026
DESCRIPTION:Event details\nThis is a Master Mentor Training hosted by TWNAF UK on Zoom.\nThe event will be held in English. \nTraining dates may be subject to change\, notice will be given if changes are made.\nDownload the master mentor workbook under the resources page of the website.\n \nContact details\nContact Alex Shoderu for enquiries or to RSVP.\n+44 777 018 2900 | twnafuk@gmail.com\nRegistration link: https://twnafuk2026.eventbrite.co.uk \nCost details\nThis event costs free of charge.
URL:https://twnaf.com/fr/single-event/twnaf-master-mentor-zoom-uk-january-2026/2026-03-11/
LOCATION:Zoom: UK host\, London\, United Kingdom
CATEGORIES:—TWNAF—,Online
ORGANIZER;CN="TWNAF UK":MAILTO:twnafuk@gmail.com
END:VEVENT
BEGIN:VEVENT
DTSTART;TZID=Africa/Johannesburg:20260314T080000
DTEND;TZID=Africa/Johannesburg:20260314T150000
DTSTAMP:20260419T152651
CREATED:20260127T074323Z
LAST-MODIFIED:20260127T074323Z
UID:10001691-1773475200-1773500400@twnaf.com
SUMMARY:TMD Training || Somerset West\, South Africa || February 2026
DESCRIPTION:Event details\nThis is a The Mother Design Training hosted by Michelle Henderson at Sage & Thyme Village Coffee Shop.\nThe event will be held in English.\nBooking link: tmdhelderberg@gmail.com – send an email and a welcome email will be sent back to you with all the details to register (Please check spam folders)\n16 February 2026 (every Monday evening) to 23 March 2026 -18h30 to 21h00\, and one Saturday 14 March 2026 08h00 to 15h00. \nContact details\nContact Tina de Wet +27 72 736 3003 OR Michele Henderson +27 84 405 1436 for enquiries or to RSVP. \nCost details\nThis event costs R400 / person\nCost includes workbook\, venue hire & refreshments. \nRSVP By\n13 February 2026
URL:https://twnaf.com/fr/single-event/tmd-training-somerset-west-south-africa-february-2026/2026-03-14/
LOCATION:Sage and Thyme Restaurant\, Shop 28\, Circle Centre\, Caledon Street\, Somerset West\, Western Cape\, 7130\, South Africa
CATEGORIES:—TMD—,South Africa
ORGANIZER;CN="Michelle Hendeson":MAILTO:michhenderson92@gmail.com
END:VEVENT
BEGIN:VEVENT
DTSTART;TZID=Africa/Johannesburg:20260315T170000
DTEND;TZID=Africa/Johannesburg:20260315T190000
DTSTAMP:20260419T152651
CREATED:20260213T083019Z
LAST-MODIFIED:20260213T083019Z
UID:10001710-1773594000-1773601200@twnaf.com
SUMMARY:TWNAF Journey for Dads and Daughters || Kirstenhof\, SA || Jan 26
DESCRIPTION:Event details\nThis is a Journey for Dads & Daughters hosted by Richard Walker at CHS Life Centre.\nThe event will be held in English.\n\nSunday 25th January 2026 to Sunday 5th April 2026\nSunday evenings 17h00 – 19h00\nRite of Passage Camp 10th to 12th April 2026\n \nContact details\nContact Richard Walker for enquiries or to RSVP.\nrichard.walker@altron.com | +27 82 732 9507 \nCost details\nThis event costs R3850 / family\nCost includes training manuals\, camps\, food & refreshments.\nCost does not include transport.
URL:https://twnaf.com/fr/single-event/twnaf-journey-for-dads-and-daughters-kirstenhof-sa-jan-26/2026-03-15/
LOCATION:CHS Life Centre\, 38 Raapkraal Rd\, Kirstenhof\, Cape Town\, Western Cape\, 7945
CATEGORIES:-JOURNEY-,—TWNAF—,South Africa
END:VEVENT
BEGIN:VEVENT
DTSTART;TZID=Africa/Johannesburg:20260316T180000
DTEND;TZID=Africa/Johannesburg:20260316T210000
DTSTAMP:20260419T152651
CREATED:20250425T113024Z
LAST-MODIFIED:20250505T063412Z
UID:10001364-1773684000-1773694800@twnaf.com
SUMMARY:TWNAF Dads Talk || Stellenbosch\, South Africa || May 2025
DESCRIPTION:Event details\nThis is a Dads Talk hosted by Edward Ellis at Stellenbosch (exact venue to be confirmed).\nThe event will be held in English. \nContact details\nContact Edward Ellis for enquiries or to RSVP.\nstellenbosch@thejourney.capetown | +27 72 362 2383 \nCost details\nThis event costs R500 per person.\nCost includes course material & snacks. \nRSVP By\n25 May 2025.
URL:https://twnaf.com/fr/single-event/twnaf-dads-talk-stellenbosch-south-africa-may-2025/2026-03-16/
CATEGORIES:—TWNAF—,South Africa
ORGANIZER;CN="Edward Ellis":MAILTO:stellenbosch@thejourney.capetown
END:VEVENT
BEGIN:VEVENT
DTSTART;TZID=Africa/Johannesburg:20260316T183000
DTEND;TZID=Africa/Johannesburg:20260316T210000
DTSTAMP:20260419T152651
CREATED:20260127T074323Z
LAST-MODIFIED:20260127T074323Z
UID:10001692-1773685800-1773694800@twnaf.com
SUMMARY:TMD Training || Somerset West\, South Africa || February 2026
DESCRIPTION:Event details\nThis is a The Mother Design Training hosted by Michelle Henderson at Sage & Thyme Village Coffee Shop.\nThe event will be held in English.\nBooking link: tmdhelderberg@gmail.com – send an email and a welcome email will be sent back to you with all the details to register (Please check spam folders)\n16 February 2026 (every Monday evening) to 23 March 2026 -18h30 to 21h00\, and one Saturday 14 March 2026 08h00 to 15h00. \nContact details\nContact Tina de Wet +27 72 736 3003 OR Michele Henderson +27 84 405 1436 for enquiries or to RSVP. \nCost details\nThis event costs R400 / person\nCost includes workbook\, venue hire & refreshments. \nRSVP By\n13 February 2026
URL:https://twnaf.com/fr/single-event/tmd-training-somerset-west-south-africa-february-2026/2026-03-16/
LOCATION:Sage and Thyme Restaurant\, Shop 28\, Circle Centre\, Caledon Street\, Somerset West\, Western Cape\, 7130\, South Africa
CATEGORIES:—TMD—,South Africa
ORGANIZER;CN="Michelle Hendeson":MAILTO:michhenderson92@gmail.com
END:VEVENT
BEGIN:VEVENT
DTSTART;TZID=America/Guatemala:20260318T174500
DTEND;TZID=America/Guatemala:20260318T191500
DTSTAMP:20260419T152651
CREATED:20260309T091732Z
LAST-MODIFIED:20260309T091732Z
UID:10001731-1773855900-1773861300@twnaf.com
SUMMARY:TWNAF L1 Bible Study || Guatemala City\, Guatemala || March 2026
DESCRIPTION:Event details\nThis is a Level 1 “Bible Study in partnership with My Special Treasure School” on Site Chimaltenango\, Guatemala.\nThe event will be held in Spanish. \n18 March 17:45 – 19:15\n22 April 17:45 – 19:15\n20 May 17:45 – 19:15\n10 June 17:45 – 19:15\n \nContact details\nContact Makko Gonzales.\nmgonzalezgt@missiongo.org | +502 5704-1303
URL:https://twnaf.com/fr/single-event/twnaf-l1-bible-study-guatemala-city-guatemala-march-2026/2026-03-18/
LOCATION:Chimaltenango\, Guatemala
CATEGORIES:—TWNAF—,Guatemala
ORGANIZER;CN="Makko Gonzales":MAILTO:mgonzalez@missiongo.org
END:VEVENT
BEGIN:VEVENT
DTSTART;TZID=Europe/London:20260318T193000
DTEND;TZID=Europe/London:20260318T213000
DTSTAMP:20260419T152651
CREATED:20251201T105935Z
LAST-MODIFIED:20251201T105935Z
UID:10001667-1773862200-1773869400@twnaf.com
SUMMARY:TWNAF training || Zoom\, UK || January 2026
DESCRIPTION:Event details\nThis is a TWNAF training for men hosted by TWNAF UK on Zoom.\nThe event will be held in English.\nTime Zone: GMT+0 / UTC+0 \nProposed dates (Training dates may be subject to change\, notice will be given if changes are made.)\nWednesdays 19:30 – 21:30\n21\, 28 Jan 2026\n4\, 11\, 18\, 25 Feb 2026\n4\, 11\, 18 Mar 2026 \nContact details\nContact twnafuk@gmail.com for enquiries or to RSVP.\nRegister here: twnafuk2026.eventbrite.co.uk  \nCost details\nThis event is Free of charge
URL:https://twnaf.com/fr/single-event/twnaf-training-zoom-uk-january-2026/2026-03-18/
LOCATION:Zoom: UK host\, London\, United Kingdom
CATEGORIES:—TWNAF—,Online
ORGANIZER;CN="TWNAF UK":MAILTO:twnafuk@gmail.com
END:VEVENT
BEGIN:VEVENT
DTSTART;TZID=Europe/London:20260318T193000
DTEND;TZID=Europe/London:20260318T213000
DTSTAMP:20260419T152651
CREATED:20260116T105422Z
LAST-MODIFIED:20260116T105422Z
UID:10001685-1773862200-1773869400@twnaf.com
SUMMARY:TWNAF Master Mentor || Zoom\, UK || January 2026
DESCRIPTION:Event details\nThis is a Master Mentor Training hosted by TWNAF UK on Zoom.\nThe event will be held in English. \nTraining dates may be subject to change\, notice will be given if changes are made.\nDownload the master mentor workbook under the resources page of the website.\n \nContact details\nContact Alex Shoderu for enquiries or to RSVP.\n+44 777 018 2900 | twnafuk@gmail.com\nRegistration link: https://twnafuk2026.eventbrite.co.uk \nCost details\nThis event costs free of charge.
URL:https://twnaf.com/fr/single-event/twnaf-master-mentor-zoom-uk-january-2026/2026-03-18/
LOCATION:Zoom: UK host\, London\, United Kingdom
CATEGORIES:—TWNAF—,Online
ORGANIZER;CN="TWNAF UK":MAILTO:twnafuk@gmail.com
END:VEVENT
BEGIN:VEVENT
DTSTART;TZID=Asia/Manila:20260319T133000
DTEND;TZID=Asia/Manila:20260319T153000
DTSTAMP:20260419T152651
CREATED:20250903T125136Z
LAST-MODIFIED:20250903T125814Z
UID:10001603-1773927000-1773934200@twnaf.com
SUMMARY:TWNAF Training || Manila\, Philippines || September 2025
DESCRIPTION:Event details\nThis is a TWNAF training for parents and teachers of Tiong Se Academy in Manila.\nThe event will be held in English & Filipino.\nTraining will be held 13:30 – 15:30 (PHST / UTC+8) on these dates:\n4 Sept 2025; 18 Sept 2025; 16 Oct 2025; 13 Nov 2025; 28 Jan 2026; 19 Feb 2026; 19 Mar 2026; 16 Apr 2026 \nContact details\nContact Jebo Banzuelo for enquiries or to RSVP.\njbanzuelo@yahoo.com | +639209633441 \nCost details\nThis event is free of charge \nRSVP\nThis training is exclusive to Parents and teachers of Tiong Se Academy.
URL:https://twnaf.com/fr/single-event/twnaf-training-manila-philippines-september-2025/2026-03-19/
LOCATION:Tiong Se Acadamy\, Elena str\, Binondo\, Manila\, NCR\, Philippines
CATEGORIES:—TWNAF—,Philippines
ORGANIZER;CN="Jebo Banzuelo":MAILTO:jbanzuelo@yahoo.com
END:VEVENT
BEGIN:VEVENT
DTSTART;TZID=Africa/Johannesburg:20260322T170000
DTEND;TZID=Africa/Johannesburg:20260322T190000
DTSTAMP:20260419T152651
CREATED:20260213T083019Z
LAST-MODIFIED:20260213T083019Z
UID:10001711-1774198800-1774206000@twnaf.com
SUMMARY:TWNAF Journey for Dads and Daughters || Kirstenhof\, SA || Jan 26
DESCRIPTION:Event details\nThis is a Journey for Dads & Daughters hosted by Richard Walker at CHS Life Centre.\nThe event will be held in English.\n\nSunday 25th January 2026 to Sunday 5th April 2026\nSunday evenings 17h00 – 19h00\nRite of Passage Camp 10th to 12th April 2026\n \nContact details\nContact Richard Walker for enquiries or to RSVP.\nrichard.walker@altron.com | +27 82 732 9507 \nCost details\nThis event costs R3850 / family\nCost includes training manuals\, camps\, food & refreshments.\nCost does not include transport.
URL:https://twnaf.com/fr/single-event/twnaf-journey-for-dads-and-daughters-kirstenhof-sa-jan-26/2026-03-22/
LOCATION:CHS Life Centre\, 38 Raapkraal Rd\, Kirstenhof\, Cape Town\, Western Cape\, 7945
CATEGORIES:-JOURNEY-,—TWNAF—,South Africa
END:VEVENT
BEGIN:VEVENT
DTSTART;TZID=Africa/Johannesburg:20260323T183000
DTEND;TZID=Africa/Johannesburg:20260323T210000
DTSTAMP:20260419T152651
CREATED:20260127T074323Z
LAST-MODIFIED:20260127T074323Z
UID:10001693-1774290600-1774299600@twnaf.com
SUMMARY:TMD Training || Somerset West\, South Africa || February 2026
DESCRIPTION:Event details\nThis is a The Mother Design Training hosted by Michelle Henderson at Sage & Thyme Village Coffee Shop.\nThe event will be held in English.\nBooking link: tmdhelderberg@gmail.com – send an email and a welcome email will be sent back to you with all the details to register (Please check spam folders)\n16 February 2026 (every Monday evening) to 23 March 2026 -18h30 to 21h00\, and one Saturday 14 March 2026 08h00 to 15h00. \nContact details\nContact Tina de Wet +27 72 736 3003 OR Michele Henderson +27 84 405 1436 for enquiries or to RSVP. \nCost details\nThis event costs R400 / person\nCost includes workbook\, venue hire & refreshments. \nRSVP By\n13 February 2026
URL:https://twnaf.com/fr/single-event/tmd-training-somerset-west-south-africa-february-2026/2026-03-23/
LOCATION:Sage and Thyme Restaurant\, Shop 28\, Circle Centre\, Caledon Street\, Somerset West\, Western Cape\, 7130\, South Africa
CATEGORIES:—TMD—,South Africa
ORGANIZER;CN="Michelle Hendeson":MAILTO:michhenderson92@gmail.com
END:VEVENT
BEGIN:VEVENT
DTSTART;TZID=America/Guatemala:20260326T190000
DTEND;TZID=America/Guatemala:20260326T203000
DTSTAMP:20260419T152651
CREATED:20260309T092242Z
LAST-MODIFIED:20260309T092242Z
UID:10001735-1774551600-1774557000@twnaf.com
SUMMARY:TWNAF Training || Santa Elena Barillas\, Guatemale || March 2026
DESCRIPTION:Event details\nThis is a TWNAF Mom & Dad Responsibilities Training hosted by Makko Gonzales at  Iglesia Asamblea de Diios Nazareth.\nThe event will be held in Spanish. \nContact details\nContact Makko Gonzales.\nmgonzalezgt@missiongo.org | +502 5704-1303 \n 
URL:https://twnaf.com/fr/single-event/twnaf-training-santa-elena-barillas-guatemale-march-2026/
LOCATION:Iglesia Asamblea de Diios Nazareth\, Santa Elena Barillas\, Villa Canales\, Guatemala
CATEGORIES:—TWNAF—
ORGANIZER;CN="Makko Gonzales":MAILTO:mgonzalez@missiongo.org
END:VEVENT
BEGIN:VEVENT
DTSTART;TZID=America/Guatemala:20260327T100000
DTEND;TZID=America/Guatemala:20260327T110000
DTSTAMP:20260419T152651
CREATED:20260309T091054Z
LAST-MODIFIED:20260309T091054Z
UID:10001723-1774605600-1774609200@twnaf.com
SUMMARY:TWNAF Level 1 || Guatemala City\, Guatemala || March 2026
DESCRIPTION:Event details\nThis is a Parents School in partnership with the Guatemala Well-being Government Office” on Site Guatemala City.\nThe event will be held in Spanish. \n27 March. 10:00 – 11:00\n24 April. 10:00 – 11:00\n22 May 10:00 – 11:00\n26 June 10:00 – 11:00\n24 July 10:00 – 11:00\n21 August 10:00 – 11:00\n25 September 10:00 – 11:00 \nContact details\nContact Makko Gonzales for enquiries or to RSVP.\nmgonzalez@missiongo.org | +502 5704-1303
URL:https://twnaf.com/fr/single-event/twnaf-level-1-guatemala-city-guatemala-march-2026/2026-03-27/
LOCATION:Guatemala City Government Office\, Guatemala City\, 01009\, Guatemala
CATEGORIES:—TWNAF—,Guatemala
ORGANIZER;CN="Makko Gonzales":MAILTO:mgonzalez@missiongo.org
END:VEVENT
BEGIN:VEVENT
DTSTART;TZID=Africa/Johannesburg:20260329T170000
DTEND;TZID=Africa/Johannesburg:20260329T190000
DTSTAMP:20260419T152651
CREATED:20260213T083019Z
LAST-MODIFIED:20260213T083019Z
UID:10001712-1774803600-1774810800@twnaf.com
SUMMARY:TWNAF Journey for Dads and Daughters || Kirstenhof\, SA || Jan 26
DESCRIPTION:Event details\nThis is a Journey for Dads & Daughters hosted by Richard Walker at CHS Life Centre.\nThe event will be held in English.\n\nSunday 25th January 2026 to Sunday 5th April 2026\nSunday evenings 17h00 – 19h00\nRite of Passage Camp 10th to 12th April 2026\n \nContact details\nContact Richard Walker for enquiries or to RSVP.\nrichard.walker@altron.com | +27 82 732 9507 \nCost details\nThis event costs R3850 / family\nCost includes training manuals\, camps\, food & refreshments.\nCost does not include transport.
URL:https://twnaf.com/fr/single-event/twnaf-journey-for-dads-and-daughters-kirstenhof-sa-jan-26/2026-03-29/
LOCATION:CHS Life Centre\, 38 Raapkraal Rd\, Kirstenhof\, Cape Town\, Western Cape\, 7945
CATEGORIES:-JOURNEY-,—TWNAF—,South Africa
END:VEVENT
BEGIN:VEVENT
DTSTART;TZID=Africa/Johannesburg:20260330T180000
DTEND;TZID=Africa/Johannesburg:20260330T210000
DTSTAMP:20260419T152651
CREATED:20250425T113024Z
LAST-MODIFIED:20250505T063412Z
UID:10001366-1774893600-1774904400@twnaf.com
SUMMARY:TWNAF Dads Talk || Stellenbosch\, South Africa || May 2025
DESCRIPTION:Event details\nThis is a Dads Talk hosted by Edward Ellis at Stellenbosch (exact venue to be confirmed).\nThe event will be held in English. \nContact details\nContact Edward Ellis for enquiries or to RSVP.\nstellenbosch@thejourney.capetown | +27 72 362 2383 \nCost details\nThis event costs R500 per person.\nCost includes course material & snacks. \nRSVP By\n25 May 2025.
URL:https://twnaf.com/fr/single-event/twnaf-dads-talk-stellenbosch-south-africa-may-2025/2026-03-30/
CATEGORIES:—TWNAF—,South Africa
ORGANIZER;CN="Edward Ellis":MAILTO:stellenbosch@thejourney.capetown
END:VEVENT
END:VCALENDAR