BEGIN:VCALENDAR
VERSION:2.0
PRODID:-//The World Needs A Father - ECPv6.15.20//NONSGML v1.0//EN
CALSCALE:GREGORIAN
METHOD:PUBLISH
X-WR-CALNAME:The World Needs A Father
X-ORIGINAL-URL:https://twnaf.com/fr
X-WR-CALDESC:Évènements pour The World Needs A Father
REFRESH-INTERVAL;VALUE=DURATION:PT1H
X-Robots-Tag:noindex
X-PUBLISHED-TTL:PT1H
BEGIN:VTIMEZONE
TZID:Africa/Johannesburg
BEGIN:STANDARD
TZOFFSETFROM:+0200
TZOFFSETTO:+0200
TZNAME:SAST
DTSTART:20250101T000000
END:STANDARD
END:VTIMEZONE
BEGIN:VTIMEZONE
TZID:Asia/Manila
BEGIN:STANDARD
TZOFFSETFROM:+0800
TZOFFSETTO:+0800
TZNAME:PST
DTSTART:20250101T000000
END:STANDARD
END:VTIMEZONE
BEGIN:VTIMEZONE
TZID:America/Guatemala
BEGIN:STANDARD
TZOFFSETFROM:-0600
TZOFFSETTO:-0600
TZNAME:CST
DTSTART:20250101T000000
END:STANDARD
END:VTIMEZONE
BEGIN:VEVENT
DTSTART;TZID=Africa/Johannesburg:20260406T180000
DTEND;TZID=Africa/Johannesburg:20260406T210000
DTSTAMP:20260420T092055
CREATED:20250425T113024Z
LAST-MODIFIED:20250505T063412Z
UID:10001367-1775498400-1775509200@twnaf.com
SUMMARY:TWNAF Dads Talk || Stellenbosch\, South Africa || May 2025
DESCRIPTION:Event details\nThis is a Dads Talk hosted by Edward Ellis at Stellenbosch (exact venue to be confirmed).\nThe event will be held in English. \nContact details\nContact Edward Ellis for enquiries or to RSVP.\nstellenbosch@thejourney.capetown | +27 72 362 2383 \nCost details\nThis event costs R500 per person.\nCost includes course material & snacks. \nRSVP By\n25 May 2025.
URL:https://twnaf.com/fr/single-event/twnaf-dads-talk-stellenbosch-south-africa-may-2025/2026-04-06/
CATEGORIES:—TWNAF—,South Africa
ORGANIZER;CN="Edward Ellis":MAILTO:stellenbosch@thejourney.capetown
END:VEVENT
BEGIN:VEVENT
DTSTART;TZID=Africa/Johannesburg:20260410T070000
DTEND;TZID=Africa/Johannesburg:20260410T210000
DTSTAMP:20260420T092055
CREATED:20260213T083019Z
LAST-MODIFIED:20260213T083019Z
UID:10001714-1775804400-1775854800@twnaf.com
SUMMARY:TWNAF Journey for Dads and Daughters || Kirstenhof\, SA || Jan 26
DESCRIPTION:Event details\nThis is a Journey for Dads & Daughters hosted by Richard Walker at CHS Life Centre.\nThe event will be held in English.\n\nSunday 25th January 2026 to Sunday 5th April 2026\nSunday evenings 17h00 – 19h00\nRite of Passage Camp 10th to 12th April 2026\n \nContact details\nContact Richard Walker for enquiries or to RSVP.\nrichard.walker@altron.com | +27 82 732 9507 \nCost details\nThis event costs R3850 / family\nCost includes training manuals\, camps\, food & refreshments.\nCost does not include transport.
URL:https://twnaf.com/fr/single-event/twnaf-journey-for-dads-and-daughters-kirstenhof-sa-jan-26/2026-04-10/
LOCATION:CHS Life Centre\, 38 Raapkraal Rd\, Kirstenhof\, Cape Town\, Western Cape\, 7945
CATEGORIES:-JOURNEY-,—TWNAF—,South Africa
END:VEVENT
BEGIN:VEVENT
DTSTART;TZID=Africa/Johannesburg:20260411T070000
DTEND;TZID=Africa/Johannesburg:20260411T210000
DTSTAMP:20260420T092055
CREATED:20260213T083019Z
LAST-MODIFIED:20260213T083019Z
UID:10001715-1775890800-1775941200@twnaf.com
SUMMARY:TWNAF Journey for Dads and Daughters || Kirstenhof\, SA || Jan 26
DESCRIPTION:Event details\nThis is a Journey for Dads & Daughters hosted by Richard Walker at CHS Life Centre.\nThe event will be held in English.\n\nSunday 25th January 2026 to Sunday 5th April 2026\nSunday evenings 17h00 – 19h00\nRite of Passage Camp 10th to 12th April 2026\n \nContact details\nContact Richard Walker for enquiries or to RSVP.\nrichard.walker@altron.com | +27 82 732 9507 \nCost details\nThis event costs R3850 / family\nCost includes training manuals\, camps\, food & refreshments.\nCost does not include transport.
URL:https://twnaf.com/fr/single-event/twnaf-journey-for-dads-and-daughters-kirstenhof-sa-jan-26/2026-04-11/
LOCATION:CHS Life Centre\, 38 Raapkraal Rd\, Kirstenhof\, Cape Town\, Western Cape\, 7945
CATEGORIES:-JOURNEY-,—TWNAF—,South Africa
END:VEVENT
BEGIN:VEVENT
DTSTART;TZID=Africa/Johannesburg:20260412T070000
DTEND;TZID=Africa/Johannesburg:20260412T163000
DTSTAMP:20260420T092055
CREATED:20260213T083019Z
LAST-MODIFIED:20260213T083019Z
UID:10001716-1775977200-1776011400@twnaf.com
SUMMARY:TWNAF Journey for Dads and Daughters || Kirstenhof\, SA || Jan 26
DESCRIPTION:Event details\nThis is a Journey for Dads & Daughters hosted by Richard Walker at CHS Life Centre.\nThe event will be held in English.\n\nSunday 25th January 2026 to Sunday 5th April 2026\nSunday evenings 17h00 – 19h00\nRite of Passage Camp 10th to 12th April 2026\n \nContact details\nContact Richard Walker for enquiries or to RSVP.\nrichard.walker@altron.com | +27 82 732 9507 \nCost details\nThis event costs R3850 / family\nCost includes training manuals\, camps\, food & refreshments.\nCost does not include transport.
URL:https://twnaf.com/fr/single-event/twnaf-journey-for-dads-and-daughters-kirstenhof-sa-jan-26/2026-04-12/
LOCATION:CHS Life Centre\, 38 Raapkraal Rd\, Kirstenhof\, Cape Town\, Western Cape\, 7945
CATEGORIES:-JOURNEY-,—TWNAF—,South Africa
END:VEVENT
BEGIN:VEVENT
DTSTART;TZID=Africa/Johannesburg:20260413T180000
DTEND;TZID=Africa/Johannesburg:20260413T210000
DTSTAMP:20260420T092055
CREATED:20250425T113024Z
LAST-MODIFIED:20250505T063412Z
UID:10001368-1776103200-1776114000@twnaf.com
SUMMARY:TWNAF Dads Talk || Stellenbosch\, South Africa || May 2025
DESCRIPTION:Event details\nThis is a Dads Talk hosted by Edward Ellis at Stellenbosch (exact venue to be confirmed).\nThe event will be held in English. \nContact details\nContact Edward Ellis for enquiries or to RSVP.\nstellenbosch@thejourney.capetown | +27 72 362 2383 \nCost details\nThis event costs R500 per person.\nCost includes course material & snacks. \nRSVP By\n25 May 2025.
URL:https://twnaf.com/fr/single-event/twnaf-dads-talk-stellenbosch-south-africa-may-2025/2026-04-13/
CATEGORIES:—TWNAF—,South Africa
ORGANIZER;CN="Edward Ellis":MAILTO:stellenbosch@thejourney.capetown
END:VEVENT
BEGIN:VEVENT
DTSTART;TZID=Asia/Manila:20260416T133000
DTEND;TZID=Asia/Manila:20260416T153000
DTSTAMP:20260420T092055
CREATED:20260320T095731Z
LAST-MODIFIED:20260407T073847Z
UID:10001604-1776346200-1776353400@twnaf.com
SUMMARY:TWNAF Training || Manila\, Philippines || September 2025
DESCRIPTION:Event details\nThis is a TWNAF training for parents and teachers of Tiong Se Academy in Manila.\nThe event will be held in English & Filipino.\nTraining will be held 13:30 – 15:30 (PHST / UTC+8) on these dates:\n4 Sept 2025; 18 Sept 2025; 16 Oct 2025; 13 Nov 2025; 28 Jan 2026; 19 Feb 2026; 19 Mar 2026; 16 Apr 2026 \nContact details\nContact Jebo Banzuelo for enquiries or to RSVP.\njbanzuelo@yahoo.com | +639209633441 \nCost details\nThis event is free of charge \nRSVP\nThis training is exclusive to Parents and teachers of Tiong Se Academy.
URL:https://twnaf.com/fr/single-event/twnaf-training-manila-philippines-september-2025-2/
LOCATION:Tiong Se Acadamy\, Elena str\, Binondo\, Manila\, NCR\, Philippines
CATEGORIES:—TWNAF—,Philippines
ORGANIZER;CN="Jebo Banzuelo":MAILTO:jbanzuelo@yahoo.com
END:VEVENT
BEGIN:VEVENT
DTSTART;TZID=Africa/Johannesburg:20260416T180000
DTEND;TZID=Africa/Johannesburg:20260416T210000
DTSTAMP:20260420T092055
CREATED:20260407T074727Z
LAST-MODIFIED:20260407T074727Z
UID:10001737-1776362400-1776373200@twnaf.com
SUMMARY:TWNAF Dads Talk || Roodepoort\, South Africa || April 2026
DESCRIPTION:Event details\nThis is a Dads Talk hosted by Roberto Rugani at Wilro Corner Shopping Centre.\nThe event will be held in English.\nThursdays (bi-weekly)\n16\, 30 April\n14\, 29 May\n11\, 25 June\n9 July\n18:00 – 21:00 \nContact details\nContact Roberto Rugani for enquiries or to RSVP.\n+27 82 799 9687 | roberto@greenwayfarm.co.za \nCost details\nThis event costs R700 / person\nCost includes training material\, coffee & tea.
URL:https://twnaf.com/fr/single-event/twnaf-dads-talk-roodepoort-south-africa-april-2026/2026-04-16/
LOCATION:Wilro Corner Shopping Centre\, C R Swart Rd & Mimosa St\, Wilro Park\, Roodepoort\, Gauteng\, 1724\, South Africa
CATEGORIES:—TWNAF—,South Africa
ORGANIZER;CN="Robert Rugani":MAILTO:roberto@greenwayfarm.co.za
END:VEVENT
BEGIN:VEVENT
DTSTART;TZID=Africa/Johannesburg:20260420T180000
DTEND;TZID=Africa/Johannesburg:20260420T210000
DTSTAMP:20260420T092055
CREATED:20250425T113024Z
LAST-MODIFIED:20250505T063412Z
UID:10001369-1776708000-1776718800@twnaf.com
SUMMARY:TWNAF Dads Talk || Stellenbosch\, South Africa || May 2025
DESCRIPTION:Event details\nThis is a Dads Talk hosted by Edward Ellis at Stellenbosch (exact venue to be confirmed).\nThe event will be held in English. \nContact details\nContact Edward Ellis for enquiries or to RSVP.\nstellenbosch@thejourney.capetown | +27 72 362 2383 \nCost details\nThis event costs R500 per person.\nCost includes course material & snacks. \nRSVP By\n25 May 2025.
URL:https://twnaf.com/fr/single-event/twnaf-dads-talk-stellenbosch-south-africa-may-2025/2026-04-20/
CATEGORIES:—TWNAF—,South Africa
ORGANIZER;CN="Edward Ellis":MAILTO:stellenbosch@thejourney.capetown
END:VEVENT
BEGIN:VEVENT
DTSTART;TZID=America/Guatemala:20260422T174500
DTEND;TZID=America/Guatemala:20260422T191500
DTSTAMP:20260420T092055
CREATED:20260309T091732Z
LAST-MODIFIED:20260309T091732Z
UID:10001732-1776879900-1776885300@twnaf.com
SUMMARY:TWNAF L1 Bible Study || Guatemala City\, Guatemala || March 2026
DESCRIPTION:Event details\nThis is a Level 1 “Bible Study in partnership with My Special Treasure School” on Site Chimaltenango\, Guatemala.\nThe event will be held in Spanish. \n18 March 17:45 – 19:15\n22 April 17:45 – 19:15\n20 May 17:45 – 19:15\n10 June 17:45 – 19:15\n \nContact details\nContact Makko Gonzales.\nmgonzalezgt@missiongo.org | +502 5704-1303
URL:https://twnaf.com/fr/single-event/twnaf-l1-bible-study-guatemala-city-guatemala-march-2026/2026-04-22/
LOCATION:Chimaltenango\, Guatemala
CATEGORIES:—TWNAF—,Guatemala
ORGANIZER;CN="Makko Gonzales":MAILTO:mgonzalez@missiongo.org
END:VEVENT
BEGIN:VEVENT
DTSTART;TZID=America/Guatemala:20260424T100000
DTEND;TZID=America/Guatemala:20260424T110000
DTSTAMP:20260420T092055
CREATED:20260309T091054Z
LAST-MODIFIED:20260309T091054Z
UID:10001724-1777024800-1777028400@twnaf.com
SUMMARY:TWNAF Level 1 || Guatemala City\, Guatemala || March 2026
DESCRIPTION:Event details\nThis is a Parents School in partnership with the Guatemala Well-being Government Office” on Site Guatemala City.\nThe event will be held in Spanish. \n27 March. 10:00 – 11:00\n24 April. 10:00 – 11:00\n22 May 10:00 – 11:00\n26 June 10:00 – 11:00\n24 July 10:00 – 11:00\n21 August 10:00 – 11:00\n25 September 10:00 – 11:00 \nContact details\nContact Makko Gonzales for enquiries or to RSVP.\nmgonzalez@missiongo.org | +502 5704-1303
URL:https://twnaf.com/fr/single-event/twnaf-level-1-guatemala-city-guatemala-march-2026/2026-04-24/
LOCATION:Guatemala City Government Office\, Guatemala City\, 01009\, Guatemala
CATEGORIES:—TWNAF—,Guatemala
ORGANIZER;CN="Makko Gonzales":MAILTO:mgonzalez@missiongo.org
END:VEVENT
BEGIN:VEVENT
DTSTART;TZID=Africa/Johannesburg:20260427T180000
DTEND;TZID=Africa/Johannesburg:20260427T210000
DTSTAMP:20260420T092055
CREATED:20250425T113024Z
LAST-MODIFIED:20250505T063412Z
UID:10001370-1777312800-1777323600@twnaf.com
SUMMARY:TWNAF Dads Talk || Stellenbosch\, South Africa || May 2025
DESCRIPTION:Event details\nThis is a Dads Talk hosted by Edward Ellis at Stellenbosch (exact venue to be confirmed).\nThe event will be held in English. \nContact details\nContact Edward Ellis for enquiries or to RSVP.\nstellenbosch@thejourney.capetown | +27 72 362 2383 \nCost details\nThis event costs R500 per person.\nCost includes course material & snacks. \nRSVP By\n25 May 2025.
URL:https://twnaf.com/fr/single-event/twnaf-dads-talk-stellenbosch-south-africa-may-2025/2026-04-27/
CATEGORIES:—TWNAF—,South Africa
ORGANIZER;CN="Edward Ellis":MAILTO:stellenbosch@thejourney.capetown
END:VEVENT
BEGIN:VEVENT
DTSTART;TZID=Africa/Johannesburg:20260430T180000
DTEND;TZID=Africa/Johannesburg:20260430T210000
DTSTAMP:20260420T092055
CREATED:20260407T074727Z
LAST-MODIFIED:20260407T074727Z
UID:10001738-1777572000-1777582800@twnaf.com
SUMMARY:TWNAF Dads Talk || Roodepoort\, South Africa || April 2026
DESCRIPTION:Event details\nThis is a Dads Talk hosted by Roberto Rugani at Wilro Corner Shopping Centre.\nThe event will be held in English.\nThursdays (bi-weekly)\n16\, 30 April\n14\, 29 May\n11\, 25 June\n9 July\n18:00 – 21:00 \nContact details\nContact Roberto Rugani for enquiries or to RSVP.\n+27 82 799 9687 | roberto@greenwayfarm.co.za \nCost details\nThis event costs R700 / person\nCost includes training material\, coffee & tea.
URL:https://twnaf.com/fr/single-event/twnaf-dads-talk-roodepoort-south-africa-april-2026/2026-04-30/
LOCATION:Wilro Corner Shopping Centre\, C R Swart Rd & Mimosa St\, Wilro Park\, Roodepoort\, Gauteng\, 1724\, South Africa
CATEGORIES:—TWNAF—,South Africa
ORGANIZER;CN="Robert Rugani":MAILTO:roberto@greenwayfarm.co.za
END:VEVENT
END:VCALENDAR