BEGIN:VCALENDAR
VERSION:2.0
PRODID:-//The World Needs A Father - ECPv6.15.20//NONSGML v1.0//EN
CALSCALE:GREGORIAN
METHOD:PUBLISH
X-ORIGINAL-URL:https://twnaf.com
X-WR-CALDESC:Events for The World Needs A Father
REFRESH-INTERVAL;VALUE=DURATION:PT1H
X-Robots-Tag:noindex
X-PUBLISHED-TTL:PT1H
BEGIN:VTIMEZONE
TZID:Africa/Johannesburg
BEGIN:STANDARD
TZOFFSETFROM:+0200
TZOFFSETTO:+0200
TZNAME:SAST
DTSTART:20240101T000000
END:STANDARD
END:VTIMEZONE
BEGIN:VEVENT
DTSTART;VALUE=DATE:20250411
DTEND;VALUE=DATE:20250414
DTSTAMP:20260421T111222
CREATED:20250303T142349Z
LAST-MODIFIED:20250303T142419Z
UID:10001169-1744329600-1744588799@twnaf.com
SUMMARY:TMD Training || Malmesbury\, South Africa || April 2025
DESCRIPTION:Event details\nThis is a TMD training hosted by Willem van Jaarsveld at Bovertrek.\nThe event will be held in Afrikaans.\nSchedule to follow. \nContact details\nContact Willem van Jaarsveld for enquiries or to RSVP.\nwillemsjoy@gmail.com | +27 82 451 7913 \nCost details\nThis event costs R380 per person. \nRSVP By\n28 March 2025\nPayment before 28 March 2025 confirms registration.\nBank details:\nLARDA\, FND\, 62813547603\nREFERENCE: Initial & Surname + TMD
URL:https://twnaf.com/single-event/tmd-training-malmesbury-south-africa-april-2025/
LOCATION:Bovertek\, 5 Hugenote street\, Malmesbury\, Western Cape\, South Africa
CATEGORIES:—TMD—,South Africa
ORGANIZER;CN="Willem van Jaarsveld":MAILTO:willemsjoy
END:VEVENT
END:VCALENDAR