BEGIN:VCALENDAR
VERSION:2.0
PRODID:-//The World Needs A Father - ECPv6.15.20//NONSGML v1.0//EN
CALSCALE:GREGORIAN
METHOD:PUBLISH
X-ORIGINAL-URL:https://twnaf.com
X-WR-CALDESC:Events for The World Needs A Father
REFRESH-INTERVAL;VALUE=DURATION:PT1H
X-Robots-Tag:noindex
X-PUBLISHED-TTL:PT1H
BEGIN:VTIMEZONE
TZID:Africa/Johannesburg
BEGIN:STANDARD
TZOFFSETFROM:+0200
TZOFFSETTO:+0200
TZNAME:SAST
DTSTART:20230101T000000
END:STANDARD
END:VTIMEZONE
BEGIN:VEVENT
DTSTART;TZID=Africa/Johannesburg:20240725T170000
DTEND;TZID=Africa/Johannesburg:20240725T210000
DTSTAMP:20260421T102100
CREATED:20240612T123636Z
LAST-MODIFIED:20240612T131538Z
UID:10000833-1721926800-1721941200@twnaf.com
SUMMARY:TWNAF Master Mentor || Bethlehem\, South Africa || June 2024
DESCRIPTION:Event details\nThis is a Master mentor hosted by Niklaas Arangies at Die Hoeksteen Bethlehem.\nThe event will be held in Afrikaans\, if the need arises the training will also be in English.\nPlease bring along your Bible\, a pen and a journal. \nContact details\nContact Niklaas Arngies\, nik@moolmanshoek.co.za | +27 82 441 9970 for enquiries or to RSVP. \nCost details\nThis event costs R300 per person.\nCost includes training material.\nPlease contact Niklaas Arngies\, nik@moolmanshoek.co.za | +27 82 441 9970 for more details. \nRSVP By\n13 June 2024
URL:https://twnaf.com/single-event/twnaf-master-mentor-bethlehem-south-africa-june-2024/2024-07-25/
LOCATION:Die Hoeksteen\, 74 Plein street\, Bethlehem\, Free State\, 9701\, South Africa
CATEGORIES:—TWNAF—,South Africa
ORGANIZER;CN="Niklaas Arangies":MAILTO:nik@moolmanshoek.co.za
END:VEVENT
END:VCALENDAR