BEGIN:VCALENDAR
VERSION:2.0
PRODID:-//The World Needs A Father - ECPv6.15.20//NONSGML v1.0//EN
CALSCALE:GREGORIAN
METHOD:PUBLISH
X-ORIGINAL-URL:https://twnaf.com
X-WR-CALDESC:Events for The World Needs A Father
REFRESH-INTERVAL;VALUE=DURATION:PT1H
X-Robots-Tag:noindex
X-PUBLISHED-TTL:PT1H
BEGIN:VTIMEZONE
TZID:Africa/Johannesburg
BEGIN:STANDARD
TZOFFSETFROM:+0200
TZOFFSETTO:+0200
TZNAME:SAST
DTSTART:20230101T000000
END:STANDARD
END:VTIMEZONE
BEGIN:VEVENT
DTSTART;TZID=Africa/Johannesburg:20241103T080000
DTEND;TZID=Africa/Johannesburg:20241103T120000
DTSTAMP:20260421T105851
CREATED:20240711T073010Z
LAST-MODIFIED:20240820T133953Z
UID:10000882-1730620800-1730635200@twnaf.com
SUMMARY:TMD Training || Moolmanshoek\, South Africa || November 2024
DESCRIPTION:Event details\nThis is a The Mother Design Training hosted by Niklaas Arangies at Moolmanshoek Leadership Development Centre.\nThe event will be held in English (if needed Afrikaans). \nContact details\nContact Niklaas Arangies: +27 82 441 9970\, nik@moolmanshoek.co.za or Rencia Postimus: +27 82 683 8639\, renciapost@gmail.com for enquiries or to RSVP. \nCost details\nThis event costs R1800 per person.\nCost includes accommodation\, all meals\, refreshments and training materials.\nPlease contact Niklaas Arangies: +27 82 441 9970\, nik@moolmanshoek.co.za for more details. \nRSVP By\n25 October 2024.
URL:https://twnaf.com/single-event/tmd-training-moolmanshoek-south-africa-november-2024/2024-11-03/
LOCATION:Moolmanshoek Private Game Reserve\, Moolmanshoek Private Game Reserve\, Moolmanshoek\, Free State\, South Africa
CATEGORIES:—TMD—,South Africa
ORGANIZER;CN="Niklaas Arangies":MAILTO:nik@moolmanshoek.co.za
END:VEVENT
END:VCALENDAR