BEGIN:VCALENDAR
VERSION:2.0
PRODID:-//The World Needs A Father - ECPv6.15.20//NONSGML v1.0//EN
CALSCALE:GREGORIAN
METHOD:PUBLISH
X-WR-CALNAME:The World Needs A Father
X-ORIGINAL-URL:https://twnaf.com
X-WR-CALDESC:Events for The World Needs A Father
REFRESH-INTERVAL;VALUE=DURATION:PT1H
X-Robots-Tag:noindex
X-PUBLISHED-TTL:PT1H
BEGIN:VTIMEZONE
TZID:Africa/Johannesburg
BEGIN:STANDARD
TZOFFSETFROM:+0200
TZOFFSETTO:+0200
TZNAME:SAST
DTSTART:20240101T000000
END:STANDARD
END:VTIMEZONE
BEGIN:VEVENT
DTSTART;TZID=Africa/Johannesburg:20250830T080000
DTEND;TZID=Africa/Johannesburg:20250830T170000
DTSTAMP:20260421T103523
CREATED:20250701T094932Z
LAST-MODIFIED:20250701T094932Z
UID:10001434-1756540800-1756573200@twnaf.com
SUMMARY:TWNAF Victim 2 Victor || Durbanville\, South Africa || Aug 2025
DESCRIPTION:Event details\nThis is a Victim 2 Victor Level 1 Training hosted by Stefan Ehlers at Shofar Church\, Durbanville.\nThe event will be held in English. \nContact details\nContact Stefan Ehlers for enquiries or to RSVP.\nvictim2victorinitiative@gmail.com/  WhatsApp: +27 78 838 5783 \nCost details\nThis event costs R400p/p\nCost includes training material\, refreshments and Saturday lunch. \nRSVP By\n21 August 2025
URL:https://twnaf.com/single-event/twnaf-victim-2-victor-durbanville-south-africa-aug-2025/2025-08-30/
LOCATION:Shofar Durbanville\, 21 Pasita St\, Rosenpark\, Cape Town\, Western Cape\, 7550\, South Africa
CATEGORIES:—TWNAF—,South Africa
ORGANIZER;CN="Stefan Ehlers":MAILTO:victim2victorinitiative.co.za
END:VEVENT
END:VCALENDAR