BEGIN:VCALENDAR
VERSION:2.0
PRODID:-//The World Needs A Father - ECPv6.15.20//NONSGML v1.0//EN
CALSCALE:GREGORIAN
METHOD:PUBLISH
X-ORIGINAL-URL:https://twnaf.com
X-WR-CALDESC:Events for The World Needs A Father
REFRESH-INTERVAL;VALUE=DURATION:PT1H
X-Robots-Tag:noindex
X-PUBLISHED-TTL:PT1H
BEGIN:VTIMEZONE
TZID:Africa/Johannesburg
BEGIN:STANDARD
TZOFFSETFROM:+0200
TZOFFSETTO:+0200
TZNAME:SAST
DTSTART:20240101T000000
END:STANDARD
END:VTIMEZONE
BEGIN:VEVENT
DTSTART;TZID=Africa/Johannesburg:20250403T143000
DTEND;TZID=Africa/Johannesburg:20250405T163000
DTSTAMP:20260421T112043
CREATED:20250218T081426Z
LAST-MODIFIED:20250306T072229Z
UID:10001174-1743690600-1743870600@twnaf.com
SUMMARY:TWNAF V2V || Kempenville\, South Africa || April 2025
DESCRIPTION:Event details\nThis is a V2V (Victim 2 Victor) hosted by Stefan Ehlers at Urban Church.\nThe event will be held in English.\nTimes of training will be confirmed at a later stage. \nContact details\nContact Stefan Ehlers for enquiries or to RSVP.\nvictim2victorinitiative@gmail.com | +27 78 838 5783 \nCost details\nThis event costs R400 per person.\nCourse material\, refreshments & lunch included. \nRSVP By\n27 March 2025
URL:https://twnaf.com/single-event/twnaf-v2v-kempenville-south-africa-april-2025/2025-04-03/
LOCATION:Urban Church Kempenville\, 12 Dirkie Uys Street\, Kempenville\, Western Cape\, 7530\, South Africa
CATEGORIES:—TWNAF—,South Africa
END:VEVENT
END:VCALENDAR